BEGIN:VCALENDAR
VERSION:2.0
PRODID:-//ChamberMaster//Event Calendar 2.0//EN
METHOD:PUBLISH
X-PUBLISHED-TTL:P3D
REFRESH-INTERVAL:P3D
CALSCALE:GREGORIAN
BEGIN:VEVENT
DTSTART:20260503T153000Z
DTEND:20260503T210000Z
X-MICROSOFT-CDO-ALLDAYEVENT:FALSE
SUMMARY:Alice’s Tea Party at Willow Creek Winery
DESCRIPTION:Sunday\, May 3 | 11:30 AM   5 PM Live music with David Falcone | 12   3 PM An afternoon with a touch of Wonderland set among the vines. Visit a curated collection of local vendors\, enjoy live music\, and settle in for food and drink specials inspired by the day. Not your traditional tea\, but a playful\, elevated take   perfect for a spring outing with friends. Reservations strongly encouraged.
X-ALT-DESC;FMTTYPE=text/html:Sunday\, May 3 | 11:30 AM &ndash\; 5 PM Live music with David Falcone | 12 &ndash\; 3 PM An afternoon with a touch of Wonderland set among the vines. Visit a curated collection of local vendors\, enjoy live music\, and settle in for food and drink specials inspired by the day. Not your traditional tea\, but a playful\, elevated take &mdash\; perfect for a spring outing with friends. Reservations strongly encouraged.
LOCATION:Willow Creek Winery 168 Stevens St WCM
UID:e.1428.13079
SEQUENCE:3
DTSTAMP:20260421T003039Z
URL:https://business.capemaychamber.com/events/details/alice-s-tea-party-at-willow-creek-winery-13079
END:VEVENT

END:VCALENDAR
